BEGIN:VCALENDAR
VERSION:2.0
PRODID:-//eventon.com NONSGML v1.0//EN
CALSCALE:GREGORIAN
METHOD:PUBLISH
BEGIN:VEVENT
UID:69e670727693c
DTSTAMP:20260420T182906Z
DTSTART:20230307T170000Z
DTEND:20230307T190000Z
LOCATION:
SUMMARY:Schule+Kultur Kan­ton Zürich
DESCRIPTION:Schule+Kultur Kan­ton Zürich\nhttps://losvr.ch/en/events/schule
 kul­tur-kan­ton-zuerich/
URL:https://losvr.ch/en/events/schulekultur-kanton-zuerich/
END:VEVENT
END:VCALENDAR