BEGIN:VCALENDAR
VERSION:2.0
PRODID:-//eventon.com NONSGML v1.0//EN
CALSCALE:GREGORIAN
METHOD:PUBLISH
BEGIN:VEVENT
UID:69ecaee7413f9
DTSTAMP:20260425T120911Z
DTSTART:20230130T070000Z
DTEND:20230130T120000Z
LOCATION:
SUMMARY:Schule Heilig­berg
DESCRIPTION:Schule Heiligberg\nhttps://losvr.ch/en/events/schule-heiligberg
 /
URL:https://losvr.ch/en/events/schule-heiligberg/
END:VEVENT
END:VCALENDAR