BEGIN:VCALENDAR
VERSION:2.0
PRODID:-//eventon.com NONSGML v1.0//EN
CALSCALE:GREGORIAN
METHOD:PUBLISH
BEGIN:VEVENT
UID:69eaba2d4be1a
DTSTAMP:20260424T003245Z
DTSTART:20200424
DTEND:20200425
LOCATION:Vision du Réel Place du Marché 2\,  Nyon
SUMMARY:VISIONS DU RÉEL
DESCRIPTION:Für weit­ere Infor­ma­tio­nen besuchen Sie die Web­seite des Ver­ans
 talters.\nhttps://losvr.ch/en/events/suncance-film-festival‑2/
URL:https://losvr.ch/en/events/suncance-film-festival‑2/
END:VEVENT
END:VCALENDAR