BEGIN:VCALENDAR
VERSION:2.0
PRODID:-//eventon.com NONSGML v1.0//EN
CALSCALE:GREGORIAN
METHOD:PUBLISH
BEGIN:VEVENT
UID:69e656a5bcadf
DTSTAMP:20260420T163901Z
DTSTART:20230307T170000Z
DTEND:20230307T190000Z
LOCATION:
SUMMARY:Schule+Kultur Kanton Zürich
DESCRIPTION:Schule+Kultur Kanton Zürich\nhttps://losvr.ch/events/schulekul
 tur-kanton-zuerich/
URL:https://losvr.ch/events/schulekultur-kanton-zuerich/
END:VEVENT
END:VCALENDAR