BEGIN:VCALENDAR
VERSION:2.0
PRODID:-//eventon.com NONSGML v1.0//EN
CALSCALE:GREGORIAN
METHOD:PUBLISH
BEGIN:VEVENT
UID:69ec9cfe53c03
DTSTAMP:20260425T105246Z
DTSTART:20230130T070000Z
DTEND:20230130T120000Z
LOCATION:
SUMMARY:Schule Heiligberg
DESCRIPTION:Schule Heiligberg\nhttps://losvr.ch/events/schule-heiligberg/
URL:https://losvr.ch/events/schule-heiligberg/
END:VEVENT
END:VCALENDAR