BEGIN:VCALENDAR
VERSION:2.0
PRODID:-//eventon.com NONSGML v1.0//EN
CALSCALE:GREGORIAN
METHOD:PUBLISH
BEGIN:VEVENT
UID:69e7313f7ba25
DTSTAMP:20260421T081143Z
DTSTART:20230317T180000Z
DTEND:20230317T223000Z
LOCATION:
SUMMARY:ZENTRUM PAUL KLEE
DESCRIPTION:ZENTRUM PAUL KLEE\nhttps://losvr.ch/events/zentrum-paul-klee/
URL:https://losvr.ch/events/zentrum-paul-klee/
END:VEVENT
END:VCALENDAR